BEGIN:VCALENDAR
VERSION:2.0
PRODID:-//EFG Gusternhain - ECPv6.15.20//NONSGML v1.0//EN
CALSCALE:GREGORIAN
METHOD:PUBLISH
X-ORIGINAL-URL:https://efg-gusternhain.de
X-WR-CALDESC:Veranstaltungen für EFG Gusternhain
REFRESH-INTERVAL;VALUE=DURATION:PT1H
X-Robots-Tag:noindex
X-PUBLISHED-TTL:PT1H
BEGIN:VTIMEZONE
TZID:Europe/Berlin
BEGIN:DAYLIGHT
TZOFFSETFROM:+0100
TZOFFSETTO:+0200
TZNAME:CEST
DTSTART:20250330T010000
END:DAYLIGHT
BEGIN:STANDARD
TZOFFSETFROM:+0200
TZOFFSETTO:+0100
TZNAME:CET
DTSTART:20251026T010000
END:STANDARD
BEGIN:DAYLIGHT
TZOFFSETFROM:+0100
TZOFFSETTO:+0200
TZNAME:CEST
DTSTART:20260329T010000
END:DAYLIGHT
BEGIN:STANDARD
TZOFFSETFROM:+0200
TZOFFSETTO:+0100
TZNAME:CET
DTSTART:20261025T010000
END:STANDARD
BEGIN:DAYLIGHT
TZOFFSETFROM:+0100
TZOFFSETTO:+0200
TZNAME:CEST
DTSTART:20270328T010000
END:DAYLIGHT
BEGIN:STANDARD
TZOFFSETFROM:+0200
TZOFFSETTO:+0100
TZNAME:CET
DTSTART:20271031T010000
END:STANDARD
END:VTIMEZONE
BEGIN:VEVENT
DTSTART;TZID=Europe/Berlin:20260426T103000
DTEND;TZID=Europe/Berlin:20260426T113000
DTSTAMP:20260425T134146
CREATED:20260112T151203Z
LAST-MODIFIED:20260112T151604Z
UID:7240-1777199400-1777203000@efg-gusternhain.de
SUMMARY:Gottesdienst mit Hartmut Hühnerbein
DESCRIPTION:
URL:https://efg-gusternhain.de/event/gottesdienst-mit-hartmut-huehnerbein/
ATTACH;FMTTYPE=image/png:https://efg-gusternhain.de/wp-content/uploads/2026/01/huehnerbein_hartmut_wertestarter_870_wertestarter.png
END:VEVENT
BEGIN:VEVENT
DTSTART;TZID=Europe/Berlin:20260429T193000
DTEND;TZID=Europe/Berlin:20260429T203000
DTSTAMP:20260425T134146
CREATED:20260410T100322Z
LAST-MODIFIED:20260410T100902Z
UID:7332-1777491000-1777494600@efg-gusternhain.de
SUMMARY:Infoabend Patenreise Manuela Gimbel
DESCRIPTION:
URL:https://efg-gusternhain.de/event/infoabend-patenreise-manuela-gimbel/
ATTACH;FMTTYPE=image/jpeg:https://efg-gusternhain.de/wp-content/uploads/2026/04/manuela_2026-04.jpg
END:VEVENT
BEGIN:VEVENT
DTSTART;TZID=Europe/Berlin:20260503T103000
DTEND;TZID=Europe/Berlin:20260503T113000
DTSTAMP:20260425T134146
CREATED:20260415T070515Z
LAST-MODIFIED:20260415T070515Z
UID:7338-1777804200-1777807800@efg-gusternhain.de
SUMMARY:Gottesdienst mit Dominik Zahn mit Abendmahl
DESCRIPTION:
URL:https://efg-gusternhain.de/event/gottesdienst-mit-dominik-zahn-mit-abendmahl/
ATTACH;FMTTYPE=image/png:https://efg-gusternhain.de/wp-content/uploads/2020/03/Design-ohne-Titel.png
END:VEVENT
BEGIN:VEVENT
DTSTART;VALUE=DATE:20260507
DTEND;VALUE=DATE:20260510
DTSTAMP:20260425T134146
CREATED:20260415T072254Z
LAST-MODIFIED:20260415T072254Z
UID:7362-1778112000-1778371199@efg-gusternhain.de
SUMMARY:Bautage für Kids
DESCRIPTION:
URL:https://efg-gusternhain.de/event/bautage-fuer-kids/
ATTACH;FMTTYPE=image/png:https://efg-gusternhain.de/wp-content/uploads/2026/03/2026-03-18_lego.png
END:VEVENT
BEGIN:VEVENT
DTSTART;TZID=Europe/Berlin:20260510T103000
DTEND;TZID=Europe/Berlin:20260510T113000
DTSTAMP:20260425T134146
CREATED:20260415T070623Z
LAST-MODIFIED:20260415T070623Z
UID:7340-1778409000-1778412600@efg-gusternhain.de
SUMMARY:Familiengottesdienst "Legostadt" mit anschl. Mittagessen
DESCRIPTION:
URL:https://efg-gusternhain.de/event/familiengottesdienst-legostadt-mit-anschl-mittagessen/
ATTACH;FMTTYPE=image/png:https://efg-gusternhain.de/wp-content/uploads/2026/03/2026-03-18_lego.png
END:VEVENT
BEGIN:VEVENT
DTSTART;TZID=Europe/Berlin:20260517T103000
DTEND;TZID=Europe/Berlin:20260517T113000
DTSTAMP:20260425T134146
CREATED:20260415T070911Z
LAST-MODIFIED:20260418T150810Z
UID:7342-1779013800-1779017400@efg-gusternhain.de
SUMMARY:Gottesdienst mit Simon Scheel
DESCRIPTION:
URL:https://efg-gusternhain.de/event/gottesdienst-mit-johannes-suess/
ATTACH;FMTTYPE=image/jpeg:https://efg-gusternhain.de/wp-content/uploads/2025/09/eine-flache-fokusaufnahme-eines-mannes-der-die-bibel-liest-wahrend-er-der-nahe-eines-podiums-steht-scaled.jpg
END:VEVENT
BEGIN:VEVENT
DTSTART;TZID=Europe/Berlin:20260521T153000
DTEND;TZID=Europe/Berlin:20260521T173000
DTSTAMP:20260425T134146
CREATED:20260221T090959Z
LAST-MODIFIED:20260221T090959Z
UID:7280-1779377400-1779384600@efg-gusternhain.de
SUMMARY:Café der Begegnung
DESCRIPTION:
URL:https://efg-gusternhain.de/event/cafe-der-begegnung-4/
ATTACH;FMTTYPE=image/jpeg:https://efg-gusternhain.de/wp-content/uploads/2026/01/CDB2026-05.jpg
END:VEVENT
BEGIN:VEVENT
DTSTART;TZID=Europe/Berlin:20260524T103000
DTEND;TZID=Europe/Berlin:20260524T113000
DTSTAMP:20260425T134146
CREATED:20260415T071047Z
LAST-MODIFIED:20260415T071047Z
UID:7344-1779618600-1779622200@efg-gusternhain.de
SUMMARY:Gottesdienst mit Michael Schwitzky
DESCRIPTION:
URL:https://efg-gusternhain.de/event/gottesdienst-mit-michael-schwitzky/
ATTACH;FMTTYPE=image/jpeg:https://efg-gusternhain.de/wp-content/uploads/2024/04/Annemarie_und_Michael-1024x640-1.jpg
END:VEVENT
BEGIN:VEVENT
DTSTART;TZID=Europe/Berlin:20260530T193000
DTEND;TZID=Europe/Berlin:20260530T210000
DTSTAMP:20260425T134146
CREATED:20260403T081420Z
LAST-MODIFIED:20260403T081420Z
UID:7322-1780169400-1780174800@efg-gusternhain.de
SUMMARY:Vortrag Johannes Gerloff / Israel
DESCRIPTION:
URL:https://efg-gusternhain.de/event/vortrag-johannes-gerloff-israel/
ATTACH;FMTTYPE=image/jpeg:https://efg-gusternhain.de/wp-content/uploads/2026/04/2026_Gerloff.jpg
END:VEVENT
BEGIN:VEVENT
DTSTART;TZID=Europe/Berlin:20260531T103000
DTEND;TZID=Europe/Berlin:20260531T113000
DTSTAMP:20260425T134146
CREATED:20260403T081530Z
LAST-MODIFIED:20260403T081810Z
UID:7326-1780223400-1780227000@efg-gusternhain.de
SUMMARY:Gottesdienst mit Johannes Gerloff: Israel und die Gemeinde
DESCRIPTION:
URL:https://efg-gusternhain.de/event/gottesdienst-mit-johannes-gerloff-israel-und-die-gemeinde/
ATTACH;FMTTYPE=image/jpeg:https://efg-gusternhain.de/wp-content/uploads/2026/04/2026_Gerloff.jpg
END:VEVENT
BEGIN:VEVENT
DTSTART;TZID=Europe/Berlin:20260607T103000
DTEND;TZID=Europe/Berlin:20260607T113000
DTSTAMP:20260425T134146
CREATED:20260415T071210Z
LAST-MODIFIED:20260415T071210Z
UID:7346-1780828200-1780831800@efg-gusternhain.de
SUMMARY:Kein Gottesdienst wegen Gemeindefreizeit!
DESCRIPTION:
URL:https://efg-gusternhain.de/event/kein-gottesdienst-wegen-gemeindefreizeit/
ATTACH;FMTTYPE=image/jpeg:https://efg-gusternhain.de/wp-content/uploads/2024/04/books-5615562_1280.jpg
END:VEVENT
BEGIN:VEVENT
DTSTART;TZID=Europe/Berlin:20260611T153000
DTEND;TZID=Europe/Berlin:20260611T173000
DTSTAMP:20260425T134146
CREATED:20260221T091051Z
LAST-MODIFIED:20260221T091051Z
UID:7282-1781191800-1781199000@efg-gusternhain.de
SUMMARY:Café der Begegnung
DESCRIPTION:
URL:https://efg-gusternhain.de/event/cafe-der-begegnung-5/
ATTACH;FMTTYPE=image/jpeg:https://efg-gusternhain.de/wp-content/uploads/2026/01/CDB2026-06.jpg
END:VEVENT
BEGIN:VEVENT
DTSTART;TZID=Europe/Berlin:20260614T103000
DTEND;TZID=Europe/Berlin:20260614T113000
DTSTAMP:20260425T134146
CREATED:20260415T071349Z
LAST-MODIFIED:20260415T071349Z
UID:7348-1781433000-1781436600@efg-gusternhain.de
SUMMARY:Gottesdienst mit Uli Neuenhausen
DESCRIPTION:
URL:https://efg-gusternhain.de/event/gottesdienst-mit-uli-neuenhausen/
ATTACH;FMTTYPE=image/jpeg:https://efg-gusternhain.de/wp-content/uploads/2024/10/Ulrich_Neuenhausen_2021.jpeg
END:VEVENT
BEGIN:VEVENT
DTSTART;TZID=Europe/Berlin:20260621T103000
DTEND;TZID=Europe/Berlin:20260621T113000
DTSTAMP:20260425T134146
CREATED:20260415T071525Z
LAST-MODIFIED:20260415T071525Z
UID:7350-1782037800-1782041400@efg-gusternhain.de
SUMMARY:Familientag auf dem Sportplatz (Gottesdienst um 10:30 Uhr)
DESCRIPTION:
URL:https://efg-gusternhain.de/event/familientag-auf-dem-sportplatz-gottesdienst-um-1030-uhr/
ATTACH;FMTTYPE=image/jpeg:https://efg-gusternhain.de/wp-content/uploads/2022/06/Newsletter-8.jpg
END:VEVENT
BEGIN:VEVENT
DTSTART;TZID=Europe/Berlin:20260628T103000
DTEND;TZID=Europe/Berlin:20260628T113000
DTSTAMP:20260425T134146
CREATED:20260415T071751Z
LAST-MODIFIED:20260415T071751Z
UID:7352-1782642600-1782646200@efg-gusternhain.de
SUMMARY:Gottesdienst mit Jan Wendel mit Abendmahl
DESCRIPTION:
URL:https://efg-gusternhain.de/event/gottesdienst-mit-jan-wendel-mit-abendmahl/
ATTACH;FMTTYPE=image/jpeg:https://efg-gusternhain.de/wp-content/uploads/2024/02/Colt-200x200-1.jpg
END:VEVENT
BEGIN:VEVENT
DTSTART;TZID=Europe/Berlin:20260705T103000
DTEND;TZID=Europe/Berlin:20260705T113000
DTSTAMP:20260425T134146
CREATED:20260415T071856Z
LAST-MODIFIED:20260415T071856Z
UID:7354-1783247400-1783251000@efg-gusternhain.de
SUMMARY:Gottesdienst mit Simon Scheel
DESCRIPTION:
URL:https://efg-gusternhain.de/event/gottesdienst-mit-simon-scheel-2/
ATTACH;FMTTYPE=image/jpeg:https://efg-gusternhain.de/wp-content/uploads/2025/09/nahaufnahmeaufnahme-eines-mannes-der-die-bibel-mit-einem-unscharfen-hintergrund-schwarzweiss-halt-scaled.jpg
END:VEVENT
BEGIN:VEVENT
DTSTART;TZID=Europe/Berlin:20260712T103000
DTEND;TZID=Europe/Berlin:20260712T113000
DTSTAMP:20260425T134146
CREATED:20260415T072007Z
LAST-MODIFIED:20260415T072007Z
UID:7356-1783852200-1783855800@efg-gusternhain.de
SUMMARY:Gottesdienst mit Simon Scheel
DESCRIPTION:
URL:https://efg-gusternhain.de/event/gottesdienst-mit-simon-scheel-3/
ATTACH;FMTTYPE=image/jpeg:https://efg-gusternhain.de/wp-content/uploads/2025/09/eine-flache-fokusaufnahme-eines-mannes-der-die-bibel-liest-wahrend-er-der-nahe-eines-podiums-steht-scaled.jpg
END:VEVENT
BEGIN:VEVENT
DTSTART;TZID=Europe/Berlin:20260719T103000
DTEND;TZID=Europe/Berlin:20260719T113000
DTSTAMP:20260425T134146
CREATED:20260415T072105Z
LAST-MODIFIED:20260415T072105Z
UID:7358-1784457000-1784460600@efg-gusternhain.de
SUMMARY:Gottesdienst mit Simon Scheel mit Abendmahl
DESCRIPTION:
URL:https://efg-gusternhain.de/event/gottesdienst-mit-simon-scheel-mit-abendmahl/
ATTACH;FMTTYPE=image/jpeg:https://efg-gusternhain.de/wp-content/uploads/2024/12/woman-2667455_1280.jpg
END:VEVENT
BEGIN:VEVENT
DTSTART;TZID=Europe/Berlin:20260726T103000
DTEND;TZID=Europe/Berlin:20260726T113000
DTSTAMP:20260425T134146
CREATED:20260415T072153Z
LAST-MODIFIED:20260415T072153Z
UID:7360-1785061800-1785065400@efg-gusternhain.de
SUMMARY:Gottesdienst mit Jonas Maier
DESCRIPTION:
URL:https://efg-gusternhain.de/event/gottesdienst-mit-jonas-maier/
ATTACH;FMTTYPE=image/jpeg:https://efg-gusternhain.de/wp-content/uploads/2025/09/maria-lin-kim-07qb7TfM7EY-unsplash-scaled.jpg
END:VEVENT
END:VCALENDAR